BEGIN:VCALENDAR
VERSION:2.0
PRODID:-//Collier Primary School - ECPv6.15.14//NONSGML v1.0//EN
CALSCALE:GREGORIAN
METHOD:PUBLISH
X-WR-CALNAME:Collier Primary School
X-ORIGINAL-URL:https://collierps.wa.edu.au
X-WR-CALDESC:Events for Collier Primary School
REFRESH-INTERVAL;VALUE=DURATION:PT1H
X-Robots-Tag:noindex
X-PUBLISHED-TTL:PT1H
BEGIN:VTIMEZONE
TZID:Australia/Perth
BEGIN:STANDARD
TZOFFSETFROM:+0800
TZOFFSETTO:+0800
TZNAME:AWST
DTSTART:20240101T000000
END:STANDARD
END:VTIMEZONE
BEGIN:VEVENT
DTSTART;VALUE=DATE:20250314
DTEND;VALUE=DATE:20250325
DTSTAMP:20260422T011827
CREATED:20250212T034737Z
LAST-MODIFIED:20250212T034737Z
UID:2501-1741910400-1742860799@collierps.wa.edu.au
SUMMARY:NAPLAN testing Yr 3 and 5
DESCRIPTION:
URL:https://collierps.wa.edu.au/event/naplan-testing-yr-3-and-5/
CATEGORIES:School Events
END:VEVENT
BEGIN:VEVENT
DTSTART;TZID=Australia/Perth:20250324T173000
DTEND;TZID=Australia/Perth:20250324T193000
DTSTAMP:20260422T011827
CREATED:20250304T051943Z
LAST-MODIFIED:20250304T051943Z
UID:2582-1742837400-1742844600@collierps.wa.edu.au
SUMMARY:School Council Meeting
DESCRIPTION:
URL:https://collierps.wa.edu.au/event/school-council-meeting-2/
CATEGORIES:School Council
END:VEVENT
END:VCALENDAR