BEGIN:VCALENDAR
VERSION:2.0
PRODID:-//Collier Primary School - ECPv6.15.14//NONSGML v1.0//EN
CALSCALE:GREGORIAN
METHOD:PUBLISH
X-WR-CALNAME:Collier Primary School
X-ORIGINAL-URL:https://collierps.wa.edu.au
X-WR-CALDESC:Events for Collier Primary School
REFRESH-INTERVAL;VALUE=DURATION:PT1H
X-Robots-Tag:noindex
X-PUBLISHED-TTL:PT1H
BEGIN:VTIMEZONE
TZID:Australia/Perth
BEGIN:STANDARD
TZOFFSETFROM:+0800
TZOFFSETTO:+0800
TZNAME:AWST
DTSTART:20240101T000000
END:STANDARD
END:VTIMEZONE
BEGIN:VEVENT
DTSTART;VALUE=DATE:20250516
DTEND;VALUE=DATE:20250517
DTSTAMP:20260422T011842
CREATED:20250402T054754Z
LAST-MODIFIED:20250402T070530Z
UID:2616-1747353600-1747439999@collierps.wa.edu.au
SUMMARY:Walk Safe to School Day
DESCRIPTION:
URL:https://collierps.wa.edu.au/event/walk-safe-to-school-day/
CATEGORIES:Public Holidays and Important Days
END:VEVENT
BEGIN:VEVENT
DTSTART;VALUE=DATE:20250516
DTEND;VALUE=DATE:20250517
DTSTAMP:20260422T011842
CREATED:20250411T023918Z
LAST-MODIFIED:20250411T023918Z
UID:2735-1747353600-1747439999@collierps.wa.edu.au
SUMMARY:Canteen Open
DESCRIPTION:
URL:https://collierps.wa.edu.au/event/canteen-open-9/
END:VEVENT
BEGIN:VEVENT
DTSTART;TZID=Australia/Perth:20250516T090000
DTEND;TZID=Australia/Perth:20250516T143000
DTSTAMP:20260422T011842
CREATED:20250226T055508Z
LAST-MODIFIED:20250402T070551Z
UID:2555-1747386000-1747405800@collierps.wa.edu.au
SUMMARY:Collier PS School Cross Country
DESCRIPTION:
URL:https://collierps.wa.edu.au/event/collier-ps-school-cross-country/
CATEGORIES:School Events
END:VEVENT
END:VCALENDAR