BEGIN:VCALENDAR
VERSION:2.0
PRODID:-//Collier Primary School - ECPv6.15.14//NONSGML v1.0//EN
CALSCALE:GREGORIAN
METHOD:PUBLISH
X-ORIGINAL-URL:https://collierps.wa.edu.au
X-WR-CALDESC:Events for Collier Primary School
REFRESH-INTERVAL;VALUE=DURATION:PT1H
X-Robots-Tag:noindex
X-PUBLISHED-TTL:PT1H
BEGIN:VTIMEZONE
TZID:Australia/Perth
BEGIN:STANDARD
TZOFFSETFROM:+0800
TZOFFSETTO:+0800
TZNAME:AWST
DTSTART:20240101T000000
END:STANDARD
END:VTIMEZONE
BEGIN:VEVENT
DTSTART;TZID=Australia/Perth:20250520T093000
DTEND;TZID=Australia/Perth:20250520T143000
DTSTAMP:20260422T013248
CREATED:20250402T055220Z
LAST-MODIFIED:20250402T070608Z
UID:2618-1747733400-1747751400@collierps.wa.edu.au
SUMMARY:Yr5 Book Builders
DESCRIPTION:
URL:https://collierps.wa.edu.au/event/yr5-book-builders/
CATEGORIES:School Events
END:VEVENT
END:VCALENDAR