BEGIN:VCALENDAR
VERSION:2.0
PRODID:-//Collier Primary School - ECPv6.15.14//NONSGML v1.0//EN
CALSCALE:GREGORIAN
METHOD:PUBLISH
X-ORIGINAL-URL:https://collierps.wa.edu.au
X-WR-CALDESC:Events for Collier Primary School
REFRESH-INTERVAL;VALUE=DURATION:PT1H
X-Robots-Tag:noindex
X-PUBLISHED-TTL:PT1H
BEGIN:VTIMEZONE
TZID:Australia/Perth
BEGIN:STANDARD
TZOFFSETFROM:+0800
TZOFFSETTO:+0800
TZNAME:AWST
DTSTART:20240101T000000
END:STANDARD
END:VTIMEZONE
BEGIN:VEVENT
DTSTART;VALUE=DATE:20250526
DTEND;VALUE=DATE:20250527
DTSTAMP:20260422T020623
CREATED:20250402T055828Z
LAST-MODIFIED:20250402T070813Z
UID:2624-1748217600-1748303999@collierps.wa.edu.au
SUMMARY:National Sorry Day
DESCRIPTION:
URL:https://collierps.wa.edu.au/event/national-sorry-day/
CATEGORIES:Public Holidays and Important Days
END:VEVENT
BEGIN:VEVENT
DTSTART;TZID=Australia/Perth:20250526T080000
DTEND;TZID=Australia/Perth:20250526T170000
DTSTAMP:20260422T020623
CREATED:20250411T024008Z
LAST-MODIFIED:20250411T024008Z
UID:2741-1748246400-1748278800@collierps.wa.edu.au
SUMMARY:Canteen Open
DESCRIPTION:
URL:https://collierps.wa.edu.au/event/canteen-open-12/
CATEGORIES:Canteen Days
END:VEVENT
END:VCALENDAR