BEGIN:VCALENDAR
VERSION:2.0
PRODID:-//Collier Primary School - ECPv6.15.14//NONSGML v1.0//EN
CALSCALE:GREGORIAN
METHOD:PUBLISH
X-WR-CALNAME:Collier Primary School
X-ORIGINAL-URL:https://collierps.wa.edu.au
X-WR-CALDESC:Events for Collier Primary School
REFRESH-INTERVAL;VALUE=DURATION:PT1H
X-Robots-Tag:noindex
X-PUBLISHED-TTL:PT1H
BEGIN:VTIMEZONE
TZID:Australia/Perth
BEGIN:STANDARD
TZOFFSETFROM:+0800
TZOFFSETTO:+0800
TZNAME:AWST
DTSTART:20240101T000000
END:STANDARD
END:VTIMEZONE
BEGIN:VEVENT
DTSTART;VALUE=DATE:20250728
DTEND;VALUE=DATE:20250729
DTSTAMP:20260424T013711
CREATED:20250402T071939Z
LAST-MODIFIED:20250402T071939Z
UID:2658-1753660800-1753747199@collierps.wa.edu.au
SUMMARY:Book Week
DESCRIPTION:
URL:https://collierps.wa.edu.au/event/book-week/
CATEGORIES:School Events
END:VEVENT
BEGIN:VEVENT
DTSTART;VALUE=DATE:20250728
DTEND;VALUE=DATE:20250729
DTSTAMP:20260424T013711
CREATED:20250411T052126Z
LAST-MODIFIED:20250411T052126Z
UID:2774-1753660800-1753747199@collierps.wa.edu.au
SUMMARY:Canteen Open
DESCRIPTION:
URL:https://collierps.wa.edu.au/event/canteen-open-24/
CATEGORIES:Canteen Days
END:VEVENT
BEGIN:VEVENT
DTSTART;TZID=Australia/Perth:20250728T190000
DTEND;TZID=Australia/Perth:20250728T200000
DTSTAMP:20260424T013711
CREATED:20250402T071900Z
LAST-MODIFIED:20250402T071900Z
UID:2656-1753729200-1753732800@collierps.wa.edu.au
SUMMARY:P&C Meeting 7pm Library
DESCRIPTION:
URL:https://collierps.wa.edu.au/event/pc-meeting-7pm-library/
CATEGORIES:P&C News
END:VEVENT
END:VCALENDAR