BEGIN:VCALENDAR
VERSION:2.0
PRODID:-//Collier Primary School - ECPv6.15.14//NONSGML v1.0//EN
CALSCALE:GREGORIAN
METHOD:PUBLISH
X-WR-CALNAME:Collier Primary School
X-ORIGINAL-URL:https://collierps.wa.edu.au
X-WR-CALDESC:Events for Collier Primary School
REFRESH-INTERVAL;VALUE=DURATION:PT1H
X-Robots-Tag:noindex
X-PUBLISHED-TTL:PT1H
BEGIN:VTIMEZONE
TZID:Australia/Perth
BEGIN:STANDARD
TZOFFSETFROM:+0800
TZOFFSETTO:+0800
TZNAME:AWST
DTSTART:20240101T000000
END:STANDARD
END:VTIMEZONE
BEGIN:VEVENT
DTSTART;TZID=Australia/Perth:20250806T093000
DTEND;TZID=Australia/Perth:20250806T143000
DTSTAMP:20260424T013818
CREATED:20250402T074659Z
LAST-MODIFIED:20250402T074659Z
UID:2682-1754472600-1754490600@collierps.wa.edu.au
SUMMARY:Yr 6 Book Builders
DESCRIPTION:
URL:https://collierps.wa.edu.au/event/yr-6-book-builders-2/
CATEGORIES:School Events
END:VEVENT
END:VCALENDAR