BEGIN:VCALENDAR
VERSION:2.0
PRODID:-//Collier Primary School - ECPv6.15.14//NONSGML v1.0//EN
CALSCALE:GREGORIAN
METHOD:PUBLISH
X-WR-CALNAME:Collier Primary School
X-ORIGINAL-URL:https://collierps.wa.edu.au
X-WR-CALDESC:Events for Collier Primary School
REFRESH-INTERVAL;VALUE=DURATION:PT1H
X-Robots-Tag:noindex
X-PUBLISHED-TTL:PT1H
BEGIN:VTIMEZONE
TZID:Australia/Perth
BEGIN:STANDARD
TZOFFSETFROM:+0800
TZOFFSETTO:+0800
TZNAME:AWST
DTSTART:20240101T000000
END:STANDARD
END:VTIMEZONE
BEGIN:VEVENT
DTSTART;VALUE=DATE:20250901
DTEND;VALUE=DATE:20250902
DTSTAMP:20260424T001804
CREATED:20250408T050757Z
LAST-MODIFIED:20250408T050757Z
UID:2707-1756684800-1756771199@collierps.wa.edu.au
SUMMARY:Fathers Day ECC
DESCRIPTION:
URL:https://collierps.wa.edu.au/event/fathers-day-ecc/
CATEGORIES:School Events
END:VEVENT
BEGIN:VEVENT
DTSTART;VALUE=DATE:20250901
DTEND;VALUE=DATE:20250902
DTSTAMP:20260424T001804
CREATED:20250411T053004Z
LAST-MODIFIED:20250411T053004Z
UID:2792-1756684800-1756771199@collierps.wa.edu.au
SUMMARY:Canteen Open
DESCRIPTION:
URL:https://collierps.wa.edu.au/event/canteen-open-32/
CATEGORIES:Canteen Days
END:VEVENT
BEGIN:VEVENT
DTSTART;TZID=Australia/Perth:20250901T080000
DTEND;TZID=Australia/Perth:20250901T170000
DTSTAMP:20260424T001804
CREATED:20250402T074352Z
LAST-MODIFIED:20250402T074352Z
UID:2678-1756713600-1756746000@collierps.wa.edu.au
SUMMARY:P&C Meeting 7pm Library
DESCRIPTION:
URL:https://collierps.wa.edu.au/event/pc-meeting-7pm-library-2/
CATEGORIES:Public Holidays and Important Days
END:VEVENT
END:VCALENDAR