BEGIN:VCALENDAR
VERSION:2.0
PRODID:-//Collier Primary School - ECPv6.15.14//NONSGML v1.0//EN
CALSCALE:GREGORIAN
METHOD:PUBLISH
X-WR-CALNAME:Collier Primary School
X-ORIGINAL-URL:https://collierps.wa.edu.au
X-WR-CALDESC:Events for Collier Primary School
REFRESH-INTERVAL;VALUE=DURATION:PT1H
X-Robots-Tag:noindex
X-PUBLISHED-TTL:PT1H
BEGIN:VTIMEZONE
TZID:Australia/Perth
BEGIN:STANDARD
TZOFFSETFROM:+0800
TZOFFSETTO:+0800
TZNAME:AWST
DTSTART:20240101T000000
END:STANDARD
END:VTIMEZONE
BEGIN:VEVENT
DTSTART;VALUE=DATE:20250908
DTEND;VALUE=DATE:20250909
DTSTAMP:20260424T001734
CREATED:20250411T053109Z
LAST-MODIFIED:20250411T053109Z
UID:2796-1757289600-1757375999@collierps.wa.edu.au
SUMMARY:Canteen Open
DESCRIPTION:
URL:https://collierps.wa.edu.au/event/canteen-open-34/
CATEGORIES:Canteen Days
END:VEVENT
BEGIN:VEVENT
DTSTART;TZID=Australia/Perth:20250908T093000
DTEND;TZID=Australia/Perth:20250908T143000
DTSTAMP:20260424T001734
CREATED:20250402T074819Z
LAST-MODIFIED:20250402T074819Z
UID:2684-1757323800-1757341800@collierps.wa.edu.au
SUMMARY:Yr 6 Book Builders
DESCRIPTION:
URL:https://collierps.wa.edu.au/event/yr-6-book-builders-3/
CATEGORIES:School Events
END:VEVENT
BEGIN:VEVENT
DTSTART;TZID=Australia/Perth:20250908T190000
DTEND;TZID=Australia/Perth:20250908T200000
DTSTAMP:20260424T001734
CREATED:20250402T075502Z
LAST-MODIFIED:20250402T075502Z
UID:2692-1757358000-1757361600@collierps.wa.edu.au
SUMMARY:School Council Meeting
DESCRIPTION:
URL:https://collierps.wa.edu.au/event/school-council-meeting-7/
CATEGORIES:School Council
END:VEVENT
END:VCALENDAR