BEGIN:VCALENDAR
VERSION:2.0
PRODID:-//Collier Primary School - ECPv6.15.14//NONSGML v1.0//EN
CALSCALE:GREGORIAN
METHOD:PUBLISH
X-ORIGINAL-URL:https://collierps.wa.edu.au
X-WR-CALDESC:Events for Collier Primary School
REFRESH-INTERVAL;VALUE=DURATION:PT1H
X-Robots-Tag:noindex
X-PUBLISHED-TTL:PT1H
BEGIN:VTIMEZONE
TZID:Australia/Perth
BEGIN:STANDARD
TZOFFSETFROM:+0800
TZOFFSETTO:+0800
TZNAME:AWST
DTSTART:20240101T000000
END:STANDARD
END:VTIMEZONE
BEGIN:VEVENT
DTSTART;TZID=Australia/Perth:20250909T083000
DTEND;TZID=Australia/Perth:20250909T090000
DTSTAMP:20260422T015015
CREATED:20250728T023633Z
LAST-MODIFIED:20250805T043734Z
UID:2871-1757406600-1757408400@collierps.wa.edu.au
SUMMARY:Uniform Shop Open
DESCRIPTION:
URL:https://collierps.wa.edu.au/event/uniform-shop-open-13/
CATEGORIES:P&C News
END:VEVENT
BEGIN:VEVENT
DTSTART;TZID=Australia/Perth:20250909T093000
DTEND;TZID=Australia/Perth:20250909T143000
DTSTAMP:20260422T015015
CREATED:20250402T074900Z
LAST-MODIFIED:20250402T074900Z
UID:2686-1757410200-1757428200@collierps.wa.edu.au
SUMMARY:Yr 5 Book Builders
DESCRIPTION:
URL:https://collierps.wa.edu.au/event/yr-5-book-builders-3/
CATEGORIES:School Events
END:VEVENT
END:VCALENDAR