BEGIN:VCALENDAR
VERSION:2.0
PRODID:-//Collier Primary School - ECPv6.15.14//NONSGML v1.0//EN
CALSCALE:GREGORIAN
METHOD:PUBLISH
X-ORIGINAL-URL:https://collierps.wa.edu.au
X-WR-CALDESC:Events for Collier Primary School
REFRESH-INTERVAL;VALUE=DURATION:PT1H
X-Robots-Tag:noindex
X-PUBLISHED-TTL:PT1H
BEGIN:VTIMEZONE
TZID:Australia/Perth
BEGIN:STANDARD
TZOFFSETFROM:+0800
TZOFFSETTO:+0800
TZNAME:AWST
DTSTART:20240101T000000
END:STANDARD
END:VTIMEZONE
BEGIN:VEVENT
DTSTART;VALUE=DATE:20250911
DTEND;VALUE=DATE:20250912
DTSTAMP:20260424T002225
CREATED:20250410T064458Z
LAST-MODIFIED:20250826T013207Z
UID:2715-1757548800-1757635199@collierps.wa.edu.au
SUMMARY:R U Ok Day? Rock Your Socks
DESCRIPTION:Rock Your Socks \nOn Thursday the 11th of September\, we will be celebrating Rock Your Socks Day here at Collier. This day is all about our PBS value of Respect – for ourselves\, for others\, and for our environment. \nThe date is also R U OK? Day\, a national day that reminds us to check in with each other and show kindness and care. Rock Your Socks is our way of joining in — wearing fun\, colourful\, or mismatched socks to show that being different is something to celebrate\, and that every person deserves respect. \nOn the day\, all students and staff are encouraged to wear their brightest\, boldest\, or silliest socks. We are also asking for a gold coin donation\, which will go towards making sure our PBS prizes are always stocked and ready to celebrate students who show our CARE values. \nBy rocking our socks\, we’ll be showing that we respect each other’s individuality and that we’re committed to making Collier a caring and supportive school. \nSo\, get your socks ready for Thursday the 11th of September\, bring along your gold coin donation\, and let’s make it a day that shows how we CARE at Collier! \nThank you.
URL:https://collierps.wa.edu.au/event/r-u-ok-day/
CATEGORIES:School Events
END:VEVENT
BEGIN:VEVENT
DTSTART;VALUE=DATE:20250911
DTEND;VALUE=DATE:20250912
DTSTAMP:20260424T002225
CREATED:20250410T064559Z
LAST-MODIFIED:20250410T064559Z
UID:2717-1757548800-1757635199@collierps.wa.edu.au
SUMMARY:Canteen Special
DESCRIPTION:
URL:https://collierps.wa.edu.au/event/canteen-special-5/
CATEGORIES:Canteen Days
END:VEVENT
END:VCALENDAR