BEGIN:VCALENDAR
VERSION:2.0
PRODID:-//Collier Primary School - ECPv6.15.14//NONSGML v1.0//EN
CALSCALE:GREGORIAN
METHOD:PUBLISH
X-ORIGINAL-URL:https://collierps.wa.edu.au
X-WR-CALDESC:Events for Collier Primary School
REFRESH-INTERVAL;VALUE=DURATION:PT1H
X-Robots-Tag:noindex
X-PUBLISHED-TTL:PT1H
BEGIN:VTIMEZONE
TZID:Australia/Perth
BEGIN:STANDARD
TZOFFSETFROM:+0800
TZOFFSETTO:+0800
TZNAME:AWST
DTSTART:20240101T000000
END:STANDARD
END:VTIMEZONE
BEGIN:VEVENT
DTSTART;TZID=Australia/Perth:20250919T081500
DTEND;TZID=Australia/Perth:20250919T144000
DTSTAMP:20260424T002218
CREATED:20250410T064230Z
LAST-MODIFIED:20250911T081126Z
UID:2711-1758269700-1758292800@collierps.wa.edu.au
SUMMARY:Interschool Athletics
DESCRIPTION:2025 SMPSSA Team GamesCollier  \nCollier 2025 SMPSSA All School Competitors List \n2025 SMPSSA Athletics Program \n2025 SMPSSA Code of Behaviour
URL:https://collierps.wa.edu.au/event/interschool-athletics/
LOCATION:Manning Primary SChool
CATEGORIES:School Events
END:VEVENT
BEGIN:VEVENT
DTSTART;TZID=Australia/Perth:20250919T180000
DTEND;TZID=Australia/Perth:20250919T210000
DTSTAMP:20260424T002218
CREATED:20250410T064342Z
LAST-MODIFIED:20250512T045123Z
UID:2713-1758304800-1758315600@collierps.wa.edu.au
SUMMARY:School Disco
DESCRIPTION:
URL:https://collierps.wa.edu.au/event/school-disco/
CATEGORIES:P&C News
END:VEVENT
END:VCALENDAR