BEGIN:VCALENDAR
VERSION:2.0
PRODID:-//Collier Primary School - ECPv6.15.14//NONSGML v1.0//EN
CALSCALE:GREGORIAN
METHOD:PUBLISH
X-ORIGINAL-URL:https://collierps.wa.edu.au
X-WR-CALDESC:Events for Collier Primary School
REFRESH-INTERVAL;VALUE=DURATION:PT1H
X-Robots-Tag:noindex
X-PUBLISHED-TTL:PT1H
BEGIN:VTIMEZONE
TZID:Australia/Perth
BEGIN:STANDARD
TZOFFSETFROM:+0800
TZOFFSETTO:+0800
TZNAME:AWST
DTSTART:20240101T000000
END:STANDARD
END:VTIMEZONE
BEGIN:VEVENT
DTSTART;TZID=Australia/Perth:20250924T090000
DTEND;TZID=Australia/Perth:20250924T104000
DTSTAMP:20260424T002214
CREATED:20250722T031857Z
LAST-MODIFIED:20250915T080708Z
UID:2857-1758704400-1758710400@collierps.wa.edu.au
SUMMARY:Footsteps Concert
DESCRIPTION:Collier Footsteps Costumes\nFootsteps Concert Wednesday 24th September 9:00am – 10:40am (Time is an approximate)\nSchedule:\n1st – Pre Primary Blue & Yellow\n2nd – Rooms 1 & 2\n3rd – Rooms 3 & 4\n4th- Rooms 6 & 7\n5th- Rooms 8\n6th – Rooms 9\n7th – Rooms 10 & 11\nStudents to arrive at school in their costumes and are able to stay in them for the day. If any would like to they can bring their school uniform to change into after.
URL:https://collierps.wa.edu.au/event/footsteps-concert/
CATEGORIES:School Events
END:VEVENT
END:VCALENDAR