BEGIN:VCALENDAR
VERSION:2.0
PRODID:-//Collier Primary School - ECPv6.15.14//NONSGML v1.0//EN
CALSCALE:GREGORIAN
METHOD:PUBLISH
X-ORIGINAL-URL:https://collierps.wa.edu.au
X-WR-CALDESC:Events for Collier Primary School
REFRESH-INTERVAL;VALUE=DURATION:PT1H
X-Robots-Tag:noindex
X-PUBLISHED-TTL:PT1H
BEGIN:VTIMEZONE
TZID:Australia/Perth
BEGIN:STANDARD
TZOFFSETFROM:+0800
TZOFFSETTO:+0800
TZNAME:AWST
DTSTART:20240101T000000
END:STANDARD
END:VTIMEZONE
BEGIN:VEVENT
DTSTART;TZID=Australia/Perth:20250925T110000
DTEND;TZID=Australia/Perth:20250925T120000
DTSTAMP:20260422T020553
CREATED:20250812T034458Z
LAST-MODIFIED:20250812T034637Z
UID:2914-1758798000-1758801600@collierps.wa.edu.au
SUMMARY:Bookbuilders Book Launch
DESCRIPTION:Celebrate Collier\, Kensington and Manning Primary School students as they showcase their fantastic book creations.  WHEN: 11am-12pm and 1-2pm Thurs 25 September 2025 WHERE: South Perth Community Centre   Please see attached flyer for more details \nSouth Perth Book Builders Challenge Flyer
URL:https://collierps.wa.edu.au/event/bookbuilders-book-launch/
LOCATION:South Perth Community Centre
CATEGORIES:School Events
END:VEVENT
BEGIN:VEVENT
DTSTART;TZID=Australia/Perth:20250925T130000
DTEND;TZID=Australia/Perth:20250925T140000
DTSTAMP:20260422T020553
CREATED:20250812T034744Z
LAST-MODIFIED:20250812T034814Z
UID:2918-1758805200-1758808800@collierps.wa.edu.au
SUMMARY:Bookbuilders Book Launch
DESCRIPTION:Celebrate Collier\, Kensington and Manning Primary School students as they showcase their fantastic book creations.  WHEN: 11am-12pm and 1-2pm Thurs 25 September 2025 WHERE: South Perth Community Centre   Please see attached flyer for more details \nSouth Perth Book Builders Challenge Flyer
URL:https://collierps.wa.edu.au/event/bookbuilders-book-launch-2/
LOCATION:South Perth Community Centre
CATEGORIES:School Events
END:VEVENT
END:VCALENDAR