BEGIN:VCALENDAR
VERSION:2.0
PRODID:-//Collier Primary School - ECPv6.15.14//NONSGML v1.0//EN
CALSCALE:GREGORIAN
METHOD:PUBLISH
X-ORIGINAL-URL:https://collierps.wa.edu.au
X-WR-CALDESC:Events for Collier Primary School
REFRESH-INTERVAL;VALUE=DURATION:PT1H
X-Robots-Tag:noindex
X-PUBLISHED-TTL:PT1H
BEGIN:VTIMEZONE
TZID:Australia/Perth
BEGIN:STANDARD
TZOFFSETFROM:+0800
TZOFFSETTO:+0800
TZNAME:AWST
DTSTART:20240101T000000
END:STANDARD
END:VTIMEZONE
BEGIN:VEVENT
DTSTART;TZID=Australia/Perth:20251017T180000
DTEND;TZID=Australia/Perth:20251017T210000
DTSTAMP:20260423T225438
CREATED:20250926T062041Z
LAST-MODIFIED:20251013T040240Z
UID:2970-1760724000-1760734800@collierps.wa.edu.au
SUMMARY:Whole School Movie Night
DESCRIPTION:🎬 SCHOOL MOVIE NIGHT – Friday\, 17 October! Arrive 6pm for a 6.45pm start. Bring beanbags and blanket. \n🎟️ Tickets $8 per child\, available now via Qkr! (Collier P&C Event). No door sales — grab yours by Thursday\, 16 October\, so you don’t miss out! \n⚠️ Children must be supervised by a parent or guardian. \n🗳️ Don’t miss the raffle — win one of five $50 dining vouchers from Karalee or Sumeshiya! ✨ \nThank you for supporting our Year 6s! \nPlease see flyer attached for more details \n 
URL:https://collierps.wa.edu.au/event/whole-school-movie-night/
END:VEVENT
END:VCALENDAR