BEGIN:VCALENDAR
VERSION:2.0
PRODID:-//Collier Primary School - ECPv6.15.14//NONSGML v1.0//EN
CALSCALE:GREGORIAN
METHOD:PUBLISH
X-ORIGINAL-URL:https://collierps.wa.edu.au
X-WR-CALDESC:Events for Collier Primary School
REFRESH-INTERVAL;VALUE=DURATION:PT1H
X-Robots-Tag:noindex
X-PUBLISHED-TTL:PT1H
BEGIN:VTIMEZONE
TZID:Australia/Perth
BEGIN:STANDARD
TZOFFSETFROM:+0800
TZOFFSETTO:+0800
TZNAME:AWST
DTSTART:20240101T000000
END:STANDARD
END:VTIMEZONE
BEGIN:VEVENT
DTSTART;VALUE=DATE:20251028
DTEND;VALUE=DATE:20251029
DTSTAMP:20260423T214716
CREATED:20251013T043056Z
LAST-MODIFIED:20251013T043056Z
UID:2979-1761609600-1761695999@collierps.wa.edu.au
SUMMARY:Year 5 Mining Challenge
DESCRIPTION:
URL:https://collierps.wa.edu.au/event/year-5-mining-challenge/
CATEGORIES:School Events
END:VEVENT
BEGIN:VEVENT
DTSTART;TZID=Australia/Perth:20251028T083000
DTEND;TZID=Australia/Perth:20251028T090000
DTSTAMP:20260423T214716
CREATED:20250728T024345Z
LAST-MODIFIED:20250805T043536Z
UID:2881-1761640200-1761642000@collierps.wa.edu.au
SUMMARY:Uniform Shop Open
DESCRIPTION:
URL:https://collierps.wa.edu.au/event/uniform-shop-open-18/
CATEGORIES:P&C News
END:VEVENT
END:VCALENDAR