BEGIN:VCALENDAR
VERSION:2.0
PRODID:-//Collier Primary School - ECPv6.15.14//NONSGML v1.0//EN
CALSCALE:GREGORIAN
METHOD:PUBLISH
X-ORIGINAL-URL:https://collierps.wa.edu.au
X-WR-CALDESC:Events for Collier Primary School
REFRESH-INTERVAL;VALUE=DURATION:PT1H
X-Robots-Tag:noindex
X-PUBLISHED-TTL:PT1H
BEGIN:VTIMEZONE
TZID:Australia/Perth
BEGIN:STANDARD
TZOFFSETFROM:+0800
TZOFFSETTO:+0800
TZNAME:AWST
DTSTART:20240101T000000
END:STANDARD
END:VTIMEZONE
BEGIN:VEVENT
DTSTART;VALUE=DATE:20251030
DTEND;VALUE=DATE:20251031
DTSTAMP:20260423T214716
CREATED:20250904T004835Z
LAST-MODIFIED:20251013T045550Z
UID:2947-1761782400-1761868799@collierps.wa.edu.au
SUMMARY:Bandana Day
DESCRIPTION:Thursday 30th October Collier PS will be hosting our Bandanna Day where we will be wearing our bandanas in support of young people with cancer or have someone in their lives with cancer. Our student leaders will be selling bandanas for $7 each before school each day until Wednesday 29th October. Posters are already up around the school. Please if you can\, purchase a bandanna or if unable to\, any donation will be greatly appreciated. \nFor forty years\, Canteen has provided life-changing support that gets young people through a world turned upside down by cancer.
URL:https://collierps.wa.edu.au/event/bandana-day/
END:VEVENT
END:VCALENDAR