BEGIN:VCALENDAR
VERSION:2.0
PRODID:-//Collier Primary School - ECPv6.15.14//NONSGML v1.0//EN
CALSCALE:GREGORIAN
METHOD:PUBLISH
X-WR-CALNAME:Collier Primary School
X-ORIGINAL-URL:https://collierps.wa.edu.au
X-WR-CALDESC:Events for Collier Primary School
REFRESH-INTERVAL;VALUE=DURATION:PT1H
X-Robots-Tag:noindex
X-PUBLISHED-TTL:PT1H
BEGIN:VTIMEZONE
TZID:Australia/Perth
BEGIN:STANDARD
TZOFFSETFROM:+0800
TZOFFSETTO:+0800
TZNAME:AWST
DTSTART:20240101T000000
END:STANDARD
END:VTIMEZONE
BEGIN:VEVENT
DTSTART;TZID=Australia/Perth:20251104T083000
DTEND;TZID=Australia/Perth:20251104T090000
DTSTAMP:20260420T021718
CREATED:20250728T025342Z
LAST-MODIFIED:20250805T043035Z
UID:2885-1762245000-1762246800@collierps.wa.edu.au
SUMMARY:Uniform Shop Open
DESCRIPTION:
URL:https://collierps.wa.edu.au/event/uniform-shop-open-19/
CATEGORIES:P&C News
END:VEVENT
BEGIN:VEVENT
DTSTART;VALUE=DATE:20251105
DTEND;VALUE=DATE:20251106
DTSTAMP:20260420T021718
CREATED:20251013T044640Z
LAST-MODIFIED:20251013T045442Z
UID:2985-1762300800-1762387199@collierps.wa.edu.au
SUMMARY:Canteen Special (TBA)
DESCRIPTION:
URL:https://collierps.wa.edu.au/event/canteen-special-tba-4/
CATEGORIES:P&C News
END:VEVENT
BEGIN:VEVENT
DTSTART;TZID=Australia/Perth:20251111T083000
DTEND;TZID=Australia/Perth:20251111T090000
DTSTAMP:20260420T021718
CREATED:20250728T025406Z
LAST-MODIFIED:20250805T042944Z
UID:2887-1762849800-1762851600@collierps.wa.edu.au
SUMMARY:Uniform Shop Open
DESCRIPTION:
URL:https://collierps.wa.edu.au/event/uniform-shop-open-20/
CATEGORIES:P&C News
END:VEVENT
BEGIN:VEVENT
DTSTART;TZID=Australia/Perth:20251118T083000
DTEND;TZID=Australia/Perth:20251118T090000
DTSTAMP:20260420T021718
CREATED:20250728T025434Z
LAST-MODIFIED:20250805T042708Z
UID:2889-1763454600-1763456400@collierps.wa.edu.au
SUMMARY:Uniform Shop Open
DESCRIPTION:
URL:https://collierps.wa.edu.au/event/uniform-shop-open-21/
CATEGORIES:P&C News
END:VEVENT
BEGIN:VEVENT
DTSTART;TZID=Australia/Perth:20251124T190000
DTEND;TZID=Australia/Perth:20251124T190000
DTSTAMP:20260420T021718
CREATED:20250512T050742Z
LAST-MODIFIED:20250512T050742Z
UID:2819-1764010800-1764010800@collierps.wa.edu.au
SUMMARY:P & C Meeting
DESCRIPTION:
URL:https://collierps.wa.edu.au/event/p-c-meeting-2/
LOCATION:Library
CATEGORIES:P&C News
END:VEVENT
BEGIN:VEVENT
DTSTART;TZID=Australia/Perth:20251125T083000
DTEND;TZID=Australia/Perth:20251125T090000
DTSTAMP:20260420T021718
CREATED:20250728T025504Z
LAST-MODIFIED:20250805T043339Z
UID:2891-1764059400-1764061200@collierps.wa.edu.au
SUMMARY:Uniform Shop Open
DESCRIPTION:
URL:https://collierps.wa.edu.au/event/uniform-shop-open-22/
CATEGORIES:P&C News
END:VEVENT
END:VCALENDAR