BEGIN:VCALENDAR
VERSION:2.0
PRODID:-//Collier Primary School - ECPv6.15.14//NONSGML v1.0//EN
CALSCALE:GREGORIAN
METHOD:PUBLISH
X-WR-CALNAME:Collier Primary School
X-ORIGINAL-URL:https://collierps.wa.edu.au
X-WR-CALDESC:Events for Collier Primary School
REFRESH-INTERVAL;VALUE=DURATION:PT1H
X-Robots-Tag:noindex
X-PUBLISHED-TTL:PT1H
BEGIN:VTIMEZONE
TZID:Australia/Perth
BEGIN:STANDARD
TZOFFSETFROM:+0800
TZOFFSETTO:+0800
TZNAME:AWST
DTSTART:20240101T000000
END:STANDARD
END:VTIMEZONE
BEGIN:VEVENT
DTSTART;TZID=Australia/Perth:20250505T190000
DTEND;TZID=Australia/Perth:20250505T200000
DTSTAMP:20260420T135532
CREATED:20250410T062554Z
LAST-MODIFIED:20250410T062554Z
UID:2709-1746471600-1746475200@collierps.wa.edu.au
SUMMARY:P&C Meeting 7pm School Library - All welcome
DESCRIPTION:
URL:https://collierps.wa.edu.au/event/pc-meeting-7pm-school-library-all-welcome/
CATEGORIES:P&C News
END:VEVENT
END:VCALENDAR