BEGIN:VCALENDAR
VERSION:2.0
PRODID:-//Collier Primary School - ECPv6.15.14//NONSGML v1.0//EN
CALSCALE:GREGORIAN
METHOD:PUBLISH
X-WR-CALNAME:Collier Primary School
X-ORIGINAL-URL:https://collierps.wa.edu.au
X-WR-CALDESC:Events for Collier Primary School
REFRESH-INTERVAL;VALUE=DURATION:PT1H
X-Robots-Tag:noindex
X-PUBLISHED-TTL:PT1H
BEGIN:VTIMEZONE
TZID:Australia/Perth
BEGIN:STANDARD
TZOFFSETFROM:+0800
TZOFFSETTO:+0800
TZNAME:AWST
DTSTART:20240101T000000
END:STANDARD
END:VTIMEZONE
BEGIN:VEVENT
DTSTART;TZID=Australia/Perth:20250809T073000
DTEND;TZID=Australia/Perth:20250809T223000
DTSTAMP:20260420T084757
CREATED:20250327T040013Z
LAST-MODIFIED:20250826T013430Z
UID:2603-1754724600-1754778600@collierps.wa.edu.au
SUMMARY:Bogan Bingo
DESCRIPTION:South Perth Community Centre. Doors open 7.30pm Bingo starts at 8pm and goes until 10.30pm. Tickets $30 each. Strictly NO BYO alcohol – bar facilities on site. Pizzas available or bring your own food. Get your Bogan on to be in the chance to win a prize for Best dressed. \nSouth Perth Community Centre. Doors open 7.30pm Bingo starts at 8pm and goes until 10.30pm. Tickets $30 each. Strictly NO BYO alcohol – bar facilities on site. Pizzas available or bring your own food. Get your Bogan on to be in the chance to win a prize for Best dressed. \n 
URL:https://collierps.wa.edu.au/event/bogan-bingo/
CATEGORIES:P&C News
END:VEVENT
END:VCALENDAR