BEGIN:VCALENDAR
VERSION:2.0
PRODID:-//Collier Primary School - ECPv6.15.14//NONSGML v1.0//EN
CALSCALE:GREGORIAN
METHOD:PUBLISH
X-WR-CALNAME:Collier Primary School
X-ORIGINAL-URL:https://collierps.wa.edu.au
X-WR-CALDESC:Events for Collier Primary School
REFRESH-INTERVAL;VALUE=DURATION:PT1H
X-Robots-Tag:noindex
X-PUBLISHED-TTL:PT1H
BEGIN:VTIMEZONE
TZID:Australia/Perth
BEGIN:STANDARD
TZOFFSETFROM:+0800
TZOFFSETTO:+0800
TZNAME:AWST
DTSTART:20240101T000000
END:STANDARD
END:VTIMEZONE
BEGIN:VEVENT
DTSTART;TZID=Australia/Perth:20250805T090000
DTEND;TZID=Australia/Perth:20250805T143000
DTSTAMP:20260425T115428
CREATED:20250402T074523Z
LAST-MODIFIED:20250402T074523Z
UID:2680-1754384400-1754404200@collierps.wa.edu.au
SUMMARY:Yr 5 Book Builders
DESCRIPTION:
URL:https://collierps.wa.edu.au/event/yr-5-book-builders-2/
CATEGORIES:School Events
END:VEVENT
BEGIN:VEVENT
DTSTART;TZID=Australia/Perth:20250806T093000
DTEND;TZID=Australia/Perth:20250806T143000
DTSTAMP:20260425T115428
CREATED:20250402T074659Z
LAST-MODIFIED:20250402T074659Z
UID:2682-1754472600-1754490600@collierps.wa.edu.au
SUMMARY:Yr 6 Book Builders
DESCRIPTION:
URL:https://collierps.wa.edu.au/event/yr-6-book-builders-2/
CATEGORIES:School Events
END:VEVENT
BEGIN:VEVENT
DTSTART;VALUE=DATE:20250807
DTEND;VALUE=DATE:20250808
DTSTAMP:20260425T115428
CREATED:20250801T021310Z
LAST-MODIFIED:20250801T021553Z
UID:2899-1754524800-1754611199@collierps.wa.edu.au
SUMMARY:Footy Colours Dress Up Day
DESCRIPTION:Footy Colour Day
URL:https://collierps.wa.edu.au/event/footy-colours-dress-up-day/
CATEGORIES:School Events
END:VEVENT
BEGIN:VEVENT
DTSTART;VALUE=DATE:20250815
DTEND;VALUE=DATE:20250816
DTSTAMP:20260425T115428
CREATED:20250801T022627Z
LAST-MODIFIED:20250801T025139Z
UID:2904-1755216000-1755302399@collierps.wa.edu.au
SUMMARY:Superhero Dress Up Day
DESCRIPTION:
URL:https://collierps.wa.edu.au/event/superhero-dress-up-day-2/
CATEGORIES:School Events
END:VEVENT
BEGIN:VEVENT
DTSTART;TZID=Australia/Perth:20250821T090000
DTEND;TZID=Australia/Perth:20250821T100000
DTSTAMP:20260425T115428
CREATED:20250402T072820Z
LAST-MODIFIED:20250611T071148Z
UID:2670-1755766800-1755770400@collierps.wa.edu.au
SUMMARY:Assembly Rm's 3 & 4
DESCRIPTION:
URL:https://collierps.wa.edu.au/event/assembly-rm-12/
CATEGORIES:School Events
END:VEVENT
BEGIN:VEVENT
DTSTART;VALUE=DATE:20250825
DTEND;VALUE=DATE:20250828
DTSTAMP:20260425T115428
CREATED:20250402T074237Z
LAST-MODIFIED:20250402T074237Z
UID:2676-1756080000-1756339199@collierps.wa.edu.au
SUMMARY:Year 6 Camp
DESCRIPTION:
URL:https://collierps.wa.edu.au/event/year-6-camp/
CATEGORIES:School Events
END:VEVENT
BEGIN:VEVENT
DTSTART;TZID=Australia/Perth:20250828T150000
DTEND;TZID=Australia/Perth:20250828T170000
DTSTAMP:20260425T115428
CREATED:20250402T074114Z
LAST-MODIFIED:20250402T074114Z
UID:2674-1756393200-1756400400@collierps.wa.edu.au
SUMMARY:Massed Choir Rehearsal - Times TBA
DESCRIPTION:
URL:https://collierps.wa.edu.au/event/massed-choir-rehearsal-times-tba/
CATEGORIES:School Events
END:VEVENT
BEGIN:VEVENT
DTSTART;VALUE=DATE:20250829
DTEND;VALUE=DATE:20250830
DTSTAMP:20260425T115428
CREATED:20250408T045653Z
LAST-MODIFIED:20250819T032045Z
UID:2705-1756425600-1756511999@collierps.wa.edu.au
SUMMARY:Jumps\, Throws & 400m
DESCRIPTION:Program and Competitors – Collier Faction Jumps and Throws 2025
URL:https://collierps.wa.edu.au/event/jumps-throws-400m/
CATEGORIES:School Events
END:VEVENT
END:VCALENDAR