BEGIN:VCALENDAR
VERSION:2.0
PRODID:-//Collier Primary School - ECPv6.15.14//NONSGML v1.0//EN
CALSCALE:GREGORIAN
METHOD:PUBLISH
X-ORIGINAL-URL:https://collierps.wa.edu.au
X-WR-CALDESC:Events for Collier Primary School
REFRESH-INTERVAL;VALUE=DURATION:PT1H
X-Robots-Tag:noindex
X-PUBLISHED-TTL:PT1H
BEGIN:VTIMEZONE
TZID:Australia/Perth
BEGIN:STANDARD
TZOFFSETFROM:+0800
TZOFFSETTO:+0800
TZNAME:AWST
DTSTART:20250101T000000
END:STANDARD
END:VTIMEZONE
BEGIN:VEVENT
DTSTART;VALUE=DATE:20260303
DTEND;VALUE=DATE:20260304
DTSTAMP:20260425T023426
CREATED:20251201T052658Z
LAST-MODIFIED:20251201T052658Z
UID:3048-1772496000-1772582399@collierps.wa.edu.au
SUMMARY:PBS Dress Up Day - TBC
DESCRIPTION:
URL:https://collierps.wa.edu.au/event/pbs-dress-up-day-tbc/
CATEGORIES:School Events
END:VEVENT
BEGIN:VEVENT
DTSTART;VALUE=DATE:20260304
DTEND;VALUE=DATE:20260305
DTSTAMP:20260425T023426
CREATED:20260127T040010Z
LAST-MODIFIED:20260127T040010Z
UID:3129-1772582400-1772668799@collierps.wa.edu.au
SUMMARY:Edudance
DESCRIPTION:
URL:https://collierps.wa.edu.au/event/edudance-5/
CATEGORIES:School Events
END:VEVENT
BEGIN:VEVENT
DTSTART;TZID=Australia/Perth:20260306T090000
DTEND;TZID=Australia/Perth:20260306T100000
DTSTAMP:20260425T023426
CREATED:20251201T052849Z
LAST-MODIFIED:20251201T052849Z
UID:3050-1772787600-1772791200@collierps.wa.edu.au
SUMMARY:Assembly
DESCRIPTION:
URL:https://collierps.wa.edu.au/event/assembly-3/
CATEGORIES:School Events
END:VEVENT
BEGIN:VEVENT
DTSTART;VALUE=DATE:20260311
DTEND;VALUE=DATE:20260312
DTSTAMP:20260425T023426
CREATED:20260127T040030Z
LAST-MODIFIED:20260127T040119Z
UID:3131-1773187200-1773273599@collierps.wa.edu.au
SUMMARY:Edudance
DESCRIPTION:
URL:https://collierps.wa.edu.au/event/edudance-6/
CATEGORIES:School Events
END:VEVENT
BEGIN:VEVENT
DTSTART;TZID=Australia/Perth:20260311T080000
DTEND;TZID=Australia/Perth:20260323T170000
DTSTAMP:20260425T023426
CREATED:20251201T053032Z
LAST-MODIFIED:20251201T053154Z
UID:3052-1773216000-1774285200@collierps.wa.edu.au
SUMMARY:NAPLAN
DESCRIPTION:
URL:https://collierps.wa.edu.au/event/naplan/
CATEGORIES:School Events
END:VEVENT
BEGIN:VEVENT
DTSTART;VALUE=DATE:20260313
DTEND;VALUE=DATE:20260314
DTSTAMP:20260425T023426
CREATED:20260223T063936Z
LAST-MODIFIED:20260223T063936Z
UID:3202-1773360000-1773446399@collierps.wa.edu.au
SUMMARY:Interschool Cricket Carnival
DESCRIPTION:
URL:https://collierps.wa.edu.au/event/interschool-cricket-carnival-2/
CATEGORIES:School Events
END:VEVENT
BEGIN:VEVENT
DTSTART;TZID=Australia/Perth:20260316T080000
DTEND;TZID=Australia/Perth:20260320T170000
DTSTAMP:20260425T023426
CREATED:20251201T053252Z
LAST-MODIFIED:20251201T053252Z
UID:3056-1773648000-1774026000@collierps.wa.edu.au
SUMMARY:Harmony Week
DESCRIPTION:
URL:https://collierps.wa.edu.au/event/harmony-week/
CATEGORIES:School Events
END:VEVENT
BEGIN:VEVENT
DTSTART;VALUE=DATE:20260318
DTEND;VALUE=DATE:20260319
DTSTAMP:20260425T023426
CREATED:20260127T040142Z
LAST-MODIFIED:20260127T040142Z
UID:3134-1773792000-1773878399@collierps.wa.edu.au
SUMMARY:Edudance
DESCRIPTION:
URL:https://collierps.wa.edu.au/event/edudance-7/
CATEGORIES:School Events
END:VEVENT
BEGIN:VEVENT
DTSTART;VALUE=DATE:20260325
DTEND;VALUE=DATE:20260326
DTSTAMP:20260425T023426
CREATED:20260127T040233Z
LAST-MODIFIED:20260127T050220Z
UID:3136-1774396800-1774483199@collierps.wa.edu.au
SUMMARY:Edudance
DESCRIPTION:
URL:https://collierps.wa.edu.au/event/edudance-8/
CATEGORIES:School Events
END:VEVENT
BEGIN:VEVENT
DTSTART;VALUE=DATE:20260327
DTEND;VALUE=DATE:20260328
DTSTAMP:20260425T023426
CREATED:20251201T053338Z
LAST-MODIFIED:20260309T025112Z
UID:3058-1774569600-1774655999@collierps.wa.edu.au
SUMMARY:Ride to School Day
DESCRIPTION:
URL:https://collierps.wa.edu.au/event/ride-to-school-day/
CATEGORIES:School Events
END:VEVENT
BEGIN:VEVENT
DTSTART;TZID=Australia/Perth:20260327T090000
DTEND;TZID=Australia/Perth:20260327T100000
DTSTAMP:20260425T023426
CREATED:20260127T045034Z
LAST-MODIFIED:20260223T070916Z
UID:3143-1774602000-1774605600@collierps.wa.edu.au
SUMMARY:Assembly
DESCRIPTION:
URL:https://collierps.wa.edu.au/event/assembly-4/
CATEGORIES:School Events
END:VEVENT
BEGIN:VEVENT
DTSTART;VALUE=DATE:20260331
DTEND;VALUE=DATE:20260401
DTSTAMP:20260425T023426
CREATED:20260310T014017Z
LAST-MODIFIED:20260310T014017Z
UID:3232-1774915200-1775001599@collierps.wa.edu.au
SUMMARY:Easter Raffle Drawn
DESCRIPTION:
URL:https://collierps.wa.edu.au/event/easter-raffle-drawn/
CATEGORIES:School Events
END:VEVENT
END:VCALENDAR