BEGIN:VCALENDAR
VERSION:2.0
PRODID:-//Collier Primary School - ECPv6.15.14//NONSGML v1.0//EN
CALSCALE:GREGORIAN
METHOD:PUBLISH
X-WR-CALNAME:Collier Primary School
X-ORIGINAL-URL:https://collierps.wa.edu.au
X-WR-CALDESC:Events for Collier Primary School
REFRESH-INTERVAL;VALUE=DURATION:PT1H
X-Robots-Tag:noindex
X-PUBLISHED-TTL:PT1H
BEGIN:VTIMEZONE
TZID:Australia/Perth
BEGIN:STANDARD
TZOFFSETFROM:+0800
TZOFFSETTO:+0800
TZNAME:AWST
DTSTART:20240101T000000
END:STANDARD
END:VTIMEZONE
BEGIN:VEVENT
DTSTART;TZID=Australia/Perth:20251201T190000
DTEND;TZID=Australia/Perth:20251201T203000
DTSTAMP:20260423T183001
CREATED:20250512T050956Z
LAST-MODIFIED:20250512T051134Z
UID:2823-1764615600-1764621000@collierps.wa.edu.au
SUMMARY:Council Meeting
DESCRIPTION:
URL:https://collierps.wa.edu.au/event/council-meeting-2/
CATEGORIES:School Council
END:VEVENT
BEGIN:VEVENT
DTSTART;TZID=Australia/Perth:20251202T083000
DTEND;TZID=Australia/Perth:20251202T090000
DTSTAMP:20260423T183001
CREATED:20250728T025539Z
LAST-MODIFIED:20250805T042540Z
UID:2893-1764664200-1764666000@collierps.wa.edu.au
SUMMARY:Uniform Shop Open
DESCRIPTION:
URL:https://collierps.wa.edu.au/event/uniform-shop-open-23/
CATEGORIES:P&C News
END:VEVENT
BEGIN:VEVENT
DTSTART;VALUE=DATE:20251203
DTEND;VALUE=DATE:20251204
DTSTAMP:20260423T183001
CREATED:20250512T051347Z
LAST-MODIFIED:20250512T051347Z
UID:2825-1764720000-1764806399@collierps.wa.edu.au
SUMMARY:Canteen Special (TBA)
DESCRIPTION:
URL:https://collierps.wa.edu.au/event/canteen-special-tba-3/
CATEGORIES:Canteen Days,P&C News
END:VEVENT
BEGIN:VEVENT
DTSTART;TZID=Australia/Perth:20251209T083000
DTEND;TZID=Australia/Perth:20251209T090000
DTSTAMP:20260423T183001
CREATED:20250728T025605Z
LAST-MODIFIED:20250805T042505Z
UID:2895-1765269000-1765270800@collierps.wa.edu.au
SUMMARY:Uniform Shop Open
DESCRIPTION:
URL:https://collierps.wa.edu.au/event/uniform-shop-open-24/
CATEGORIES:P&C News
END:VEVENT
BEGIN:VEVENT
DTSTART;TZID=Australia/Perth:20251210T090000
DTEND;TZID=Australia/Perth:20251210T100000
DTSTAMP:20260423T183001
CREATED:20250512T051440Z
LAST-MODIFIED:20251124T013744Z
UID:2827-1765357200-1765360800@collierps.wa.edu.au
SUMMARY:Year 6 Graduation Assembly
DESCRIPTION:
URL:https://collierps.wa.edu.au/event/year-6-graduation/
CATEGORIES:School Events
END:VEVENT
BEGIN:VEVENT
DTSTART;TZID=Australia/Perth:20251212T131500
DTEND;TZID=Australia/Perth:20251212T143000
DTSTAMP:20260423T183001
CREATED:20250512T051541Z
LAST-MODIFIED:20251127T023132Z
UID:2829-1765545300-1765549800@collierps.wa.edu.au
SUMMARY:Final Assembly
DESCRIPTION:
URL:https://collierps.wa.edu.au/event/final-assembly/
CATEGORIES:School Events
END:VEVENT
BEGIN:VEVENT
DTSTART;TZID=Australia/Perth:20251212T160000
DTEND;TZID=Australia/Perth:20251212T190000
DTSTAMP:20260423T183001
CREATED:20250512T051641Z
LAST-MODIFIED:20250512T051641Z
UID:2831-1765555200-1765566000@collierps.wa.edu.au
SUMMARY:Sundowner
DESCRIPTION:
URL:https://collierps.wa.edu.au/event/sundowner/
CATEGORIES:P&C News
END:VEVENT
BEGIN:VEVENT
DTSTART;TZID=Australia/Perth:20251216T141000
DTEND;TZID=Australia/Perth:20251216T145000
DTSTAMP:20260423T183001
CREATED:20251216T020242Z
LAST-MODIFIED:20251216T022225Z
UID:3076-1765894200-1765896600@collierps.wa.edu.au
SUMMARY:Indonesian Concert
DESCRIPTION:
URL:https://collierps.wa.edu.au/event/indonesian-concert/
CATEGORIES:School Events
END:VEVENT
BEGIN:VEVENT
DTSTART;TZID=Australia/Perth:20251219T080000
DTEND;TZID=Australia/Perth:20260201T170000
DTSTAMP:20260423T183001
CREATED:20250512T052107Z
LAST-MODIFIED:20251201T043440Z
UID:2833-1766131200-1769965200@collierps.wa.edu.au
SUMMARY:School Holidays
DESCRIPTION:
URL:https://collierps.wa.edu.au/event/holidays/
CATEGORIES:School Holidays
END:VEVENT
END:VCALENDAR